Workbook

Sheet Deadline Log
A1: Deadline Log
A2: Rows whose internal deadline falls after the funder deadline (should be 0) | E2: =COUNTIF($H$6:$H$305,"<0")
A3: Open rows with no owner (should be 0) | E3: =SUMPRODUCT(((($A$6:$A$305<>"")+($B$6:$B$305<>"")+($C$6:$C$305<>"")+($D$6:$D$305<>"")+($E$6:$E$305<>"")+($G$6:$G$305<>""))>0)*($L$6:$L$305="")*($O$6:$O$305<>"Submitted")*($O$6:$O$305<>"Confirmed")*($O$6:$O$305<>"Missed"))
A4: Type in white cells only; gray cells hold formulas. A row stays open until its Status is Submitted, Confirmed or Missed, and a blank Status counts as open.
A5: Deliverable ID | B5: Award or opportunity | C5: Funder | D5: Deliverable type | E5: Funder deadline | F5: Deadline time and zone | G5: Internal deadline | H5: Buffer (days) | I5: Lead time (days) | J5: Days remaining | K5: Flag | L5: Owner | M5: Backup | N5: Submission system | O5: Status | P5: Confirmation | Q5: Source | R5: Upcoming sort key
H6: =IF(OR(E6="",G6=""),"",E6-G6) | J6: =IF(OR(G6="",O6="Submitted",O6="Confirmed",O6="Missed"),"",G6-TODAY()) | K6: =IF(OR(O6="Submitted",O6="Confirmed",O6="Missed"),"",IF(AND(E6<>"",TODAY()>E6),"Past funder deadline",IF(AND(G6<>"",TODAY()>G6),"Overdue",IF(AND(J6<>"",I6<>"",J6<=I6),"Due soon","")))) | R6: =IF(K6="","",IF(G6<>"",G6,E6)+ROW()/100000)
H7: =IF(OR(E7="",G7=""),"",E7-G7) | J7: =IF(OR(G7="",O7="Submitted",O7="Confirmed",O7="Missed"),"",G7-TODAY()) | K7: =IF(OR(O7="Submitted",O7="Confirmed",O7="Missed"),"",IF(AND(E7<>"",TODAY()>E7),"Past funder deadline",IF(AND(G7<>"",TODAY()>G7),"Overdue",IF(AND(J7<>"",I7<>"",J7<=I7),"Due soon","")))) | R7: =IF(K7="","",IF(G7<>"",G7,E7)+ROW()/100000)
H8: =IF(OR(E8="",G8=""),"",E8-G8) | J8: =IF(OR(G8="",O8="Submitted",O8="Confirmed",O8="Missed"),"",G8-TODAY()) | K8: =IF(OR(O8="Submitted",O8="Confirmed",O8="Missed"),"",IF(AND(E8<>"",TODAY()>E8),"Past funder deadline",IF(AND(G8<>"",TODAY()>G8),"Overdue",IF(AND(J8<>"",I8<>"",J8<=I8),"Due soon","")))) | R8: =IF(K8="","",IF(G8<>"",G8,E8)+ROW()/100000)
H9: =IF(OR(E9="",G9=""),"",E9-G9) | J9: =IF(OR(G9="",O9="Submitted",O9="Confirmed",O9="Missed"),"",G9-TODAY()) | K9: =IF(OR(O9="Submitted",O9="Confirmed",O9="Missed"),"",IF(AND(E9<>"",TODAY()>E9),"Past funder deadline",IF(AND(G9<>"",TODAY()>G9),"Overdue",IF(AND(J9<>"",I9<>"",J9<=I9),"Due soon","")))) | R9: =IF(K9="","",IF(G9<>"",G9,E9)+ROW()/100000)
H10: =IF(OR(E10="",G10=""),"",E10-G10) | J10: =IF(OR(G10="",O10="Submitted",O10="Confirmed",O10="Missed"),"",G10-TODAY()) | K10: =IF(OR(O10="Submitted",O10="Confirmed",O10="Missed"),"",IF(AND(E10<>"",TODAY()>E10),"Past funder deadline",IF(AND(G10<>"",TODAY()>G10),"Overdue",IF(AND(J10<>"",I10<>"",J10<=I10),"Due soon","")))) | R10: =IF(K10="","",IF(G10<>"",G10,E10)+ROW()/100000)
H11: =IF(OR(E11="",G11=""),"",E11-G11) | J11: =IF(OR(G11="",O11="Submitted",O11="Confirmed",O11="Missed"),"",G11-TODAY()) | K11: =IF(OR(O11="Submitted",O11="Confirmed",O11="Missed"),"",IF(AND(E11<>"",TODAY()>E11),"Past funder deadline",IF(AND(G11<>"",TODAY()>G11),"Overdue",IF(AND(J11<>"",I11<>"",J11<=I11),"Due soon","")))) | R11: =IF(K11="","",IF(G11<>"",G11,E11)+ROW()/100000)
H12: =IF(OR(E12="",G12=""),"",E12-G12) | J12: =IF(OR(G12="",O12="Submitted",O12="Confirmed",O12="Missed"),"",G12-TODAY()) | K12: =IF(OR(O12="Submitted",O12="Confirmed",O12="Missed"),"",IF(AND(E12<>"",TODAY()>E12),"Past funder deadline",IF(AND(G12<>"",TODAY()>G12),"Overdue",IF(AND(J12<>"",I12<>"",J12<=I12),"Due soon","")))) | R12: =IF(K12="","",IF(G12<>"",G12,E12)+ROW()/100000)
H13: =IF(OR(E13="",G13=""),"",E13-G13) | J13: =IF(OR(G13="",O13="Submitted",O13="Confirmed",O13="Missed"),"",G13-TODAY()) | K13: =IF(OR(O13="Submitted",O13="Confirmed",O13="Missed"),"",IF(AND(E13<>"",TODAY()>E13),"Past funder deadline",IF(AND(G13<>"",TODAY()>G13),"Overdue",IF(AND(J13<>"",I13<>"",J13<=I13),"Due soon","")))) | R13: =IF(K13="","",IF(G13<>"",G13,E13)+ROW()/100000)
H14: =IF(OR(E14="",G14=""),"",E14-G14) | J14: =IF(OR(G14="",O14="Submitted",O14="Confirmed",O14="Missed"),"",G14-TODAY()) | K14: =IF(OR(O14="Submitted",O14="Confirmed",O14="Missed"),"",IF(AND(E14<>"",TODAY()>E14),"Past funder deadline",IF(AND(G14<>"",TODAY()>G14),"Overdue",IF(AND(J14<>"",I14<>"",J14<=I14),"Due soon","")))) | R14: =IF(K14="","",IF(G14<>"",G14,E14)+ROW()/100000)
H15: =IF(OR(E15="",G15=""),"",E15-G15) | J15: =IF(OR(G15="",O15="Submitted",O15="Confirmed",O15="Missed"),"",G15-TODAY()) | K15: =IF(OR(O15="Submitted",O15="Confirmed",O15="Missed"),"",IF(AND(E15<>"",TODAY()>E15),"Past funder deadline",IF(AND(G15<>"",TODAY()>G15),"Overdue",IF(AND(J15<>"",I15<>"",J15<=I15),"Due soon","")))) | R15: =IF(K15="","",IF(G15<>"",G15,E15)+ROW()/100000)
H16: =IF(OR(E16="",G16=""),"",E16-G16) | J16: =IF(OR(G16="",O16="Submitted",O16="Confirmed",O16="Missed"),"",G16-TODAY()) | K16: =IF(OR(O16="Submitted",O16="Confirmed",O16="Missed"),"",IF(AND(E16<>"",TODAY()>E16),"Past funder deadline",IF(AND(G16<>"",TODAY()>G16),"Overdue",IF(AND(J16<>"",I16<>"",J16<=I16),"Due soon","")))) | R16: =IF(K16="","",IF(G16<>"",G16,E16)+ROW()/100000)
H17: =IF(OR(E17="",G17=""),"",E17-G17) | J17: =IF(OR(G17="",O17="Submitted",O17="Confirmed",O17="Missed"),"",G17-TODAY()) | K17: =IF(OR(O17="Submitted",O17="Confirmed",O17="Missed"),"",IF(AND(E17<>"",TODAY()>E17),"Past funder deadline",IF(AND(G17<>"",TODAY()>G17),"Overdue",IF(AND(J17<>"",I17<>"",J17<=I17),"Due soon","")))) | R17: =IF(K17="","",IF(G17<>"",G17,E17)+ROW()/100000)
... H305: =IF(OR(E305="",G305=""),"",E305-G305) | J305: =IF(OR(G305="",O305="Submitted",O305="Confirmed",O305="Missed"),"",G305-TODAY()) | K305: =IF(OR(O305="Submitted",O305="Confirmed",O305="Missed"),"",IF(AND(E305<>"",TODAY()>E305),"Past funder deadline",IF(AND(G305<>"",TODAY()>G305),"Overdue",IF(AND(J305<>"",I305<>"",J305<=I305),"Due soon","")))) | R305: =IF(K305="","",IF(G305<>"",G305,E305)+ROW()/100000)

Sheet Reporting Schedule
A1: Reporting Schedule
A2: Latest due dates the default federal rule allows (2 CFR 200.328(c) and (d) and 200.329(c)(1), eCFR, current as of September 2026). Your award document sets the actual dates.
A3: Type the award's date in the Award date column and the tab uses it in place of the calculation. Delete any interim row your award does not require.
B4: Award or opportunity | H4: Calculated from your entries in column C
B5: Period of performance start | G5: =IF($C$7="Quarterly",3,IF($C$7="Semiannual",6,IF($C$7="Annual",12,""))) | H5: months in each performance reporting period
B6: Period of performance end | G6: =IF($C$7="Annual",90,IF(OR($C$7="Quarterly",$C$7="Semiannual"),30,"")) | H6: calendar days after each performance reporting period
B7: Performance report frequency | G7: =IF($C$8="Quarterly",3,IF($C$8="Semiannual",6,IF($C$8="Annual",12,""))) | H7: months in each financial reporting period
B8: Financial report frequency | G8: =IF($C$8="Annual",90,IF(OR($C$8="Quarterly",$C$8="Semiannual"),30,"")) | H8: calendar days after each financial reporting period
B9: Recipient or subrecipient | G9: =IF($C$9="Subrecipient",90,IF($C$9="Recipient",120,"")) | H9: calendar days after the period of performance for final reports
A10: Copy each Due date used into the Deadline Log with Paste Special, Values, so the log keeps the date and not a formula.
A11: Performance reports
A12: # | B12: Report | C12: Period start | D12: Period end | E12: Default latest due date | F12: Award date (type to override) | G12: Due date used | H12: Rule
A13: 1 | B13: =IF(C13="","","Performance report, period "&A13) | C13: =IF(OR($C$5="",$C$6="",$G$5=""),"",IF(EDATE($C$5,(A13-1)*$G$5)>$C$6,"",EDATE($C$5,(A13-1)*$G$5))) | D13: =IF(C13="","",MIN(EDATE($C$5,A13*$G$5)-1,$C$6)) | E13: =IF(D13="","",D13+$G$6) | G13: =IF(F13<>"",F13,E13) | H13: =IF(C13="","","2 CFR 200.329(c)(1): "&$G$6&" calendar days after the reporting period")
A14: 2 | B14: =IF(C14="","","Performance report, period "&A14) | C14: =IF(OR($C$5="",$C$6="",$G$5=""),"",IF(EDATE($C$5,(A14-1)*$G$5)>$C$6,"",EDATE($C$5,(A14-1)*$G$5))) | D14: =IF(C14="","",MIN(EDATE($C$5,A14*$G$5)-1,$C$6)) | E14: =IF(D14="","",D14+$G$6) | G14: =IF(F14<>"",F14,E14) | H14: =IF(C14="","","2 CFR 200.329(c)(1): "&$G$6&" calendar days after the reporting period")
A15: 3 | B15: =IF(C15="","","Performance report, period "&A15) | C15: =IF(OR($C$5="",$C$6="",$G$5=""),"",IF(EDATE($C$5,(A15-1)*$G$5)>$C$6,"",EDATE($C$5,(A15-1)*$G$5))) | D15: =IF(C15="","",MIN(EDATE($C$5,A15*$G$5)-1,$C$6)) | E15: =IF(D15="","",D15+$G$6) | G15: =IF(F15<>"",F15,E15) | H15: =IF(C15="","","2 CFR 200.329(c)(1): "&$G$6&" calendar days after the reporting period")
A16: 4 | B16: =IF(C16="","","Performance report, period "&A16) | C16: =IF(OR($C$5="",$C$6="",$G$5=""),"",IF(EDATE($C$5,(A16-1)*$G$5)>$C$6,"",EDATE($C$5,(A16-1)*$G$5))) | D16: =IF(C16="","",MIN(EDATE($C$5,A16*$G$5)-1,$C$6)) | E16: =IF(D16="","",D16+$G$6) | G16: =IF(F16<>"",F16,E16) | H16: =IF(C16="","","2 CFR 200.329(c)(1): "&$G$6&" calendar days after the reporting period")
A17: 5 | B17: =IF(C17="","","Performance report, period "&A17) | C17: =IF(OR($C$5="",$C$6="",$G$5=""),"",IF(EDATE($C$5,(A17-1)*$G$5)>$C$6,"",EDATE($C$5,(A17-1)*$G$5))) | D17: =IF(C17="","",MIN(EDATE($C$5,A17*$G$5)-1,$C$6)) | E17: =IF(D17="","",D17+$G$6) | G17: =IF(F17<>"",F17,E17) | H17: =IF(C17="","","2 CFR 200.329(c)(1): "&$G$6&" calendar days after the reporting period")
A18: 6 | B18: =IF(C18="","","Performance report, period "&A18) | C18: =IF(OR($C$5="",$C$6="",$G$5=""),"",IF(EDATE($C$5,(A18-1)*$G$5)>$C$6,"",EDATE($C$5,(A18-1)*$G$5))) | D18: =IF(C18="","",MIN(EDATE($C$5,A18*$G$5)-1,$C$6)) | E18: =IF(D18="","",D18+$G$6) | G18: =IF(F18<>"",F18,E18) | H18: =IF(C18="","","2 CFR 200.329(c)(1): "&$G$6&" calendar days after the reporting period")
A19: 7 | B19: =IF(C19="","","Performance report, period "&A19) | C19: =IF(OR($C$5="",$C$6="",$G$5=""),"",IF(EDATE($C$5,(A19-1)*$G$5)>$C$6,"",EDATE($C$5,(A19-1)*$G$5))) | D19: =IF(C19="","",MIN(EDATE($C$5,A19*$G$5)-1,$C$6)) | E19: =IF(D19="","",D19+$G$6) | G19: =IF(F19<>"",F19,E19) | H19: =IF(C19="","","2 CFR 200.329(c)(1): "&$G$6&" calendar days after the reporting period")
A20: 8 | B20: =IF(C20="","","Performance report, period "&A20) | C20: =IF(OR($C$5="",$C$6="",$G$5=""),"",IF(EDATE($C$5,(A20-1)*$G$5)>$C$6,"",EDATE($C$5,(A20-1)*$G$5))) | D20: =IF(C20="","",MIN(EDATE($C$5,A20*$G$5)-1,$C$6)) | E20: =IF(D20="","",D20+$G$6) | G20: =IF(F20<>"",F20,E20) | H20: =IF(C20="","","2 CFR 200.329(c)(1): "&$G$6&" calendar days after the reporting period")
A21: 9 | B21: =IF(C21="","","Performance report, period "&A21) | C21: =IF(OR($C$5="",$C$6="",$G$5=""),"",IF(EDATE($C$5,(A21-1)*$G$5)>$C$6,"",EDATE($C$5,(A21-1)*$G$5))) | D21: =IF(C21="","",MIN(EDATE($C$5,A21*$G$5)-1,$C$6)) | E21: =IF(D21="","",D21+$G$6) | G21: =IF(F21<>"",F21,E21) | H21: =IF(C21="","","2 CFR 200.329(c)(1): "&$G$6&" calendar days after the reporting period")
A22: 10 | B22: =IF(C22="","","Performance report, period "&A22) | C22: =IF(OR($C$5="",$C$6="",$G$5=""),"",IF(EDATE($C$5,(A22-1)*$G$5)>$C$6,"",EDATE($C$5,(A22-1)*$G$5))) | D22: =IF(C22="","",MIN(EDATE($C$5,A22*$G$5)-1,$C$6)) | E22: =IF(D22="","",D22+$G$6) | G22: =IF(F22<>"",F22,E22) | H22: =IF(C22="","","2 CFR 200.329(c)(1): "&$G$6&" calendar days after the reporting period")
A23: 11 | B23: =IF(C23="","","Performance report, period "&A23) | C23: =IF(OR($C$5="",$C$6="",$G$5=""),"",IF(EDATE($C$5,(A23-1)*$G$5)>$C$6,"",EDATE($C$5,(A23-1)*$G$5))) | D23: =IF(C23="","",MIN(EDATE($C$5,A23*$G$5)-1,$C$6)) | E23: =IF(D23="","",D23+$G$6) | G23: =IF(F23<>"",F23,E23) | H23: =IF(C23="","","2 CFR 200.329(c)(1): "&$G$6&" calendar days after the reporting period")
A24: 12 | B24: =IF(C24="","","Performance report, period "&A24) | C24: =IF(OR($C$5="",$C$6="",$G$5=""),"",IF(EDATE($C$5,(A24-1)*$G$5)>$C$6,"",EDATE($C$5,(A24-1)*$G$5))) | D24: =IF(C24="","",MIN(EDATE($C$5,A24*$G$5)-1,$C$6)) | E24: =IF(D24="","",D24+$G$6) | G24: =IF(F24<>"",F24,E24) | H24: =IF(C24="","","2 CFR 200.329(c)(1): "&$G$6&" calendar days after the reporting period")
... A32: 20 | B32: =IF(C32="","","Performance report, period "&A32) | C32: =IF(OR($C$5="",$C$6="",$G$5=""),"",IF(EDATE($C$5,(A32-1)*$G$5)>$C$6,"",EDATE($C$5,(A32-1)*$G$5))) | D32: =IF(C32="","",MIN(EDATE($C$5,A32*$G$5)-1,$C$6)) | E32: =IF(D32="","",D32+$G$6) | G32: =IF(F32<>"",F32,E32) | H32: =IF(C32="","","2 CFR 200.329(c)(1): "&$G$6&" calendar days after the reporting period")
A34: Financial reports
A35: # | B35: Report | C35: Period start | D35: Period end | E35: Default latest due date | F35: Award date (type to override) | G35: Due date used | H35: Rule
A36: 1 | B36: =IF(C36="","","Financial report, period "&A36) | C36: =IF(OR($C$5="",$C$6="",$G$7=""),"",IF(EDATE($C$5,(A36-1)*$G$7)>$C$6,"",EDATE($C$5,(A36-1)*$G$7))) | D36: =IF(C36="","",MIN(EDATE($C$5,A36*$G$7)-1,$C$6)) | E36: =IF(D36="","",D36+$G$8) | G36: =IF(F36<>"",F36,E36) | H36: =IF(C36="","","2 CFR 200.328(c): "&$G$8&" calendar days after the reporting period")
A37: 2 | B37: =IF(C37="","","Financial report, period "&A37) | C37: =IF(OR($C$5="",$C$6="",$G$7=""),"",IF(EDATE($C$5,(A37-1)*$G$7)>$C$6,"",EDATE($C$5,(A37-1)*$G$7))) | D37: =IF(C37="","",MIN(EDATE($C$5,A37*$G$7)-1,$C$6)) | E37: =IF(D37="","",D37+$G$8) | G37: =IF(F37<>"",F37,E37) | H37: =IF(C37="","","2 CFR 200.328(c): "&$G$8&" calendar days after the reporting period")
A38: 3 | B38: =IF(C38="","","Financial report, period "&A38) | C38: =IF(OR($C$5="",$C$6="",$G$7=""),"",IF(EDATE($C$5,(A38-1)*$G$7)>$C$6,"",EDATE($C$5,(A38-1)*$G$7))) | D38: =IF(C38="","",MIN(EDATE($C$5,A38*$G$7)-1,$C$6)) | E38: =IF(D38="","",D38+$G$8) | G38: =IF(F38<>"",F38,E38) | H38: =IF(C38="","","2 CFR 200.328(c): "&$G$8&" calendar days after the reporting period")
A39: 4 | B39: =IF(C39="","","Financial report, period "&A39) | C39: =IF(OR($C$5="",$C$6="",$G$7=""),"",IF(EDATE($C$5,(A39-1)*$G$7)>$C$6,"",EDATE($C$5,(A39-1)*$G$7))) | D39: =IF(C39="","",MIN(EDATE($C$5,A39*$G$7)-1,$C$6)) | E39: =IF(D39="","",D39+$G$8) | G39: =IF(F39<>"",F39,E39) | H39: =IF(C39="","","2 CFR 200.328(c): "&$G$8&" calendar days after the reporting period")
A40: 5 | B40: =IF(C40="","","Financial report, period "&A40) | C40: =IF(OR($C$5="",$C$6="",$G$7=""),"",IF(EDATE($C$5,(A40-1)*$G$7)>$C$6,"",EDATE($C$5,(A40-1)*$G$7))) | D40: =IF(C40="","",MIN(EDATE($C$5,A40*$G$7)-1,$C$6)) | E40: =IF(D40="","",D40+$G$8) | G40: =IF(F40<>"",F40,E40) | H40: =IF(C40="","","2 CFR 200.328(c): "&$G$8&" calendar days after the reporting period")
A41: 6 | B41: =IF(C41="","","Financial report, period "&A41) | C41: =IF(OR($C$5="",$C$6="",$G$7=""),"",IF(EDATE($C$5,(A41-1)*$G$7)>$C$6,"",EDATE($C$5,(A41-1)*$G$7))) | D41: =IF(C41="","",MIN(EDATE($C$5,A41*$G$7)-1,$C$6)) | E41: =IF(D41="","",D41+$G$8) | G41: =IF(F41<>"",F41,E41) | H41: =IF(C41="","","2 CFR 200.328(c): "&$G$8&" calendar days after the reporting period")
A42: 7 | B42: =IF(C42="","","Financial report, period "&A42) | C42: =IF(OR($C$5="",$C$6="",$G$7=""),"",IF(EDATE($C$5,(A42-1)*$G$7)>$C$6,"",EDATE($C$5,(A42-1)*$G$7))) | D42: =IF(C42="","",MIN(EDATE($C$5,A42*$G$7)-1,$C$6)) | E42: =IF(D42="","",D42+$G$8) | G42: =IF(F42<>"",F42,E42) | H42: =IF(C42="","","2 CFR 200.328(c): "&$G$8&" calendar days after the reporting period")
A43: 8 | B43: =IF(C43="","","Financial report, period "&A43) | C43: =IF(OR($C$5="",$C$6="",$G$7=""),"",IF(EDATE($C$5,(A43-1)*$G$7)>$C$6,"",EDATE($C$5,(A43-1)*$G$7))) | D43: =IF(C43="","",MIN(EDATE($C$5,A43*$G$7)-1,$C$6)) | E43: =IF(D43="","",D43+$G$8) | G43: =IF(F43<>"",F43,E43) | H43: =IF(C43="","","2 CFR 200.328(c): "&$G$8&" calendar days after the reporting period")
A44: 9 | B44: =IF(C44="","","Financial report, period "&A44) | C44: =IF(OR($C$5="",$C$6="",$G$7=""),"",IF(EDATE($C$5,(A44-1)*$G$7)>$C$6,"",EDATE($C$5,(A44-1)*$G$7))) | D44: =IF(C44="","",MIN(EDATE($C$5,A44*$G$7)-1,$C$6)) | E44: =IF(D44="","",D44+$G$8) | G44: =IF(F44<>"",F44,E44) | H44: =IF(C44="","","2 CFR 200.328(c): "&$G$8&" calendar days after the reporting period")
A45: 10 | B45: =IF(C45="","","Financial report, period "&A45) | C45: =IF(OR($C$5="",$C$6="",$G$7=""),"",IF(EDATE($C$5,(A45-1)*$G$7)>$C$6,"",EDATE($C$5,(A45-1)*$G$7))) | D45: =IF(C45="","",MIN(EDATE($C$5,A45*$G$7)-1,$C$6)) | E45: =IF(D45="","",D45+$G$8) | G45: =IF(F45<>"",F45,E45) | H45: =IF(C45="","","2 CFR 200.328(c): "&$G$8&" calendar days after the reporting period")
A46: 11 | B46: =IF(C46="","","Financial report, period "&A46) | C46: =IF(OR($C$5="",$C$6="",$G$7=""),"",IF(EDATE($C$5,(A46-1)*$G$7)>$C$6,"",EDATE($C$5,(A46-1)*$G$7))) | D46: =IF(C46="","",MIN(EDATE($C$5,A46*$G$7)-1,$C$6)) | E46: =IF(D46="","",D46+$G$8) | G46: =IF(F46<>"",F46,E46) | H46: =IF(C46="","","2 CFR 200.328(c): "&$G$8&" calendar days after the reporting period")
A47: 12 | B47: =IF(C47="","","Financial report, period "&A47) | C47: =IF(OR($C$5="",$C$6="",$G$7=""),"",IF(EDATE($C$5,(A47-1)*$G$7)>$C$6,"",EDATE($C$5,(A47-1)*$G$7))) | D47: =IF(C47="","",MIN(EDATE($C$5,A47*$G$7)-1,$C$6)) | E47: =IF(D47="","",D47+$G$8) | G47: =IF(F47<>"",F47,E47) | H47: =IF(C47="","","2 CFR 200.328(c): "&$G$8&" calendar days after the reporting period")
... A55: 20 | B55: =IF(C55="","","Financial report, period "&A55) | C55: =IF(OR($C$5="",$C$6="",$G$7=""),"",IF(EDATE($C$5,(A55-1)*$G$7)>$C$6,"",EDATE($C$5,(A55-1)*$G$7))) | D55: =IF(C55="","",MIN(EDATE($C$5,A55*$G$7)-1,$C$6)) | E55: =IF(D55="","",D55+$G$8) | G55: =IF(F55<>"",F55,E55) | H55: =IF(C55="","","2 CFR 200.328(c): "&$G$8&" calendar days after the reporting period")
...

Sheet Upcoming
A1: Upcoming
A2: Open rows flagged Due soon, Overdue or Past funder deadline, in internal-deadline order. Filled by formulas from the Deadline Log; nothing to type here.
A3: Flagged rows | C3: =COUNT('Deadline Log'!$R$6:$R$305)
A4: A row with no internal deadline sorts by its funder deadline. The file sends nothing by itself: copy the filled rows into the weekly email to each owner and backup.
A5: # | B5: Internal deadline | C5: Flag | D5: Days remaining | E5: Deliverable ID | F5: Award or opportunity | G5: Deliverable type | H5: Funder deadline | I5: Deadline time and zone | J5: Owner | K5: Backup | L5: Status | M5: Sort key (helper) | N5: Log row (helper)
A6: =IF(ROW()-ROW($A$5)>$C$3,"",ROW()-ROW($A$5)) | B6: =IF($N6="","",IF(INDEX('Deadline Log'!$G$6:$G$305,$N6)="","",INDEX('Deadline Log'!$G$6:$G$305,$N6))) | C6: =IF($N6="","",INDEX('Deadline Log'!$K$6:$K$305,$N6)) | D6: =IF($N6="","",INDEX('Deadline Log'!$J$6:$J$305,$N6)) | E6: =IF($N6="","",IF(INDEX('Deadline Log'!$A$6:$A$305,$N6)="","",INDEX('Deadline Log'!$A$6:$A$305,$N6))) | F6: =IF($N6="","",IF(INDEX('Deadline Log'!$B$6:$B$305,$N6)="","",INDEX('Deadline Log'!$B$6:$B$305,$N6))) | G6: =IF($N6="","",IF(INDEX('Deadline Log'!$D$6:$D$305,$N6)="","",INDEX('Deadline Log'!$D$6:$D$305,$N6))) | H6: =IF($N6="","",IF(INDEX('Deadline Log'!$E$6:$E$305,$N6)="","",INDEX('Deadline Log'!$E$6:$E$305,$N6))) | I6: =IF($N6="","",IF(INDEX('Deadline Log'!$F$6:$F$305,$N6)="","",INDEX('Deadline Log'!$F$6:$F$305,$N6))) | J6: =IF($N6="","",IF(INDEX('Deadline Log'!$L$6:$L$305,$N6)="","",INDEX('Deadline Log'!$L$6:$L$305,$N6))) | K6: =IF($N6="","",IF(INDEX('Deadline Log'!$M$6:$M$305,$N6)="","",INDEX('Deadline Log'!$M$6:$M$305,$N6))) | L6: =IF($N6="","",IF(INDEX('Deadline Log'!$O$6:$O$305,$N6)="","",INDEX('Deadline Log'!$O$6:$O$305,$N6))) | M6: =IF(A6="","",SMALL('Deadline Log'!$R$6:$R$305,A6)) | N6: =IF(M6="","",MATCH(M6,'Deadline Log'!$R$6:$R$305,0))
A7: =IF(ROW()-ROW($A$5)>$C$3,"",ROW()-ROW($A$5)) | B7: =IF($N7="","",IF(INDEX('Deadline Log'!$G$6:$G$305,$N7)="","",INDEX('Deadline Log'!$G$6:$G$305,$N7))) | C7: =IF($N7="","",INDEX('Deadline Log'!$K$6:$K$305,$N7)) | D7: =IF($N7="","",INDEX('Deadline Log'!$J$6:$J$305,$N7)) | E7: =IF($N7="","",IF(INDEX('Deadline Log'!$A$6:$A$305,$N7)="","",INDEX('Deadline Log'!$A$6:$A$305,$N7))) | F7: =IF($N7="","",IF(INDEX('Deadline Log'!$B$6:$B$305,$N7)="","",INDEX('Deadline Log'!$B$6:$B$305,$N7))) | G7: =IF($N7="","",IF(INDEX('Deadline Log'!$D$6:$D$305,$N7)="","",INDEX('Deadline Log'!$D$6:$D$305,$N7))) | H7: =IF($N7="","",IF(INDEX('Deadline Log'!$E$6:$E$305,$N7)="","",INDEX('Deadline Log'!$E$6:$E$305,$N7))) | I7: =IF($N7="","",IF(INDEX('Deadline Log'!$F$6:$F$305,$N7)="","",INDEX('Deadline Log'!$F$6:$F$305,$N7))) | J7: =IF($N7="","",IF(INDEX('Deadline Log'!$L$6:$L$305,$N7)="","",INDEX('Deadline Log'!$L$6:$L$305,$N7))) | K7: =IF($N7="","",IF(INDEX('Deadline Log'!$M$6:$M$305,$N7)="","",INDEX('Deadline Log'!$M$6:$M$305,$N7))) | L7: =IF($N7="","",IF(INDEX('Deadline Log'!$O$6:$O$305,$N7)="","",INDEX('Deadline Log'!$O$6:$O$305,$N7))) | M7: =IF(A7="","",SMALL('Deadline Log'!$R$6:$R$305,A7)) | N7: =IF(M7="","",MATCH(M7,'Deadline Log'!$R$6:$R$305,0))
A8: =IF(ROW()-ROW($A$5)>$C$3,"",ROW()-ROW($A$5)) | B8: =IF($N8="","",IF(INDEX('Deadline Log'!$G$6:$G$305,$N8)="","",INDEX('Deadline Log'!$G$6:$G$305,$N8))) | C8: =IF($N8="","",INDEX('Deadline Log'!$K$6:$K$305,$N8)) | D8: =IF($N8="","",INDEX('Deadline Log'!$J$6:$J$305,$N8)) | E8: =IF($N8="","",IF(INDEX('Deadline Log'!$A$6:$A$305,$N8)="","",INDEX('Deadline Log'!$A$6:$A$305,$N8))) | F8: =IF($N8="","",IF(INDEX('Deadline Log'!$B$6:$B$305,$N8)="","",INDEX('Deadline Log'!$B$6:$B$305,$N8))) | G8: =IF($N8="","",IF(INDEX('Deadline Log'!$D$6:$D$305,$N8)="","",INDEX('Deadline Log'!$D$6:$D$305,$N8))) | H8: =IF($N8="","",IF(INDEX('Deadline Log'!$E$6:$E$305,$N8)="","",INDEX('Deadline Log'!$E$6:$E$305,$N8))) | I8: =IF($N8="","",IF(INDEX('Deadline Log'!$F$6:$F$305,$N8)="","",INDEX('Deadline Log'!$F$6:$F$305,$N8))) | J8: =IF($N8="","",IF(INDEX('Deadline Log'!$L$6:$L$305,$N8)="","",INDEX('Deadline Log'!$L$6:$L$305,$N8))) | K8: =IF($N8="","",IF(INDEX('Deadline Log'!$M$6:$M$305,$N8)="","",INDEX('Deadline Log'!$M$6:$M$305,$N8))) | L8: =IF($N8="","",IF(INDEX('Deadline Log'!$O$6:$O$305,$N8)="","",INDEX('Deadline Log'!$O$6:$O$305,$N8))) | M8: =IF(A8="","",SMALL('Deadline Log'!$R$6:$R$305,A8)) | N8: =IF(M8="","",MATCH(M8,'Deadline Log'!$R$6:$R$305,0))
A9: =IF(ROW()-ROW($A$5)>$C$3,"",ROW()-ROW($A$5)) | B9: =IF($N9="","",IF(INDEX('Deadline Log'!$G$6:$G$305,$N9)="","",INDEX('Deadline Log'!$G$6:$G$305,$N9))) | C9: =IF($N9="","",INDEX('Deadline Log'!$K$6:$K$305,$N9)) | D9: =IF($N9="","",INDEX('Deadline Log'!$J$6:$J$305,$N9)) | E9: =IF($N9="","",IF(INDEX('Deadline Log'!$A$6:$A$305,$N9)="","",INDEX('Deadline Log'!$A$6:$A$305,$N9))) | F9: =IF($N9="","",IF(INDEX('Deadline Log'!$B$6:$B$305,$N9)="","",INDEX('Deadline Log'!$B$6:$B$305,$N9))) | G9: =IF($N9="","",IF(INDEX('Deadline Log'!$D$6:$D$305,$N9)="","",INDEX('Deadline Log'!$D$6:$D$305,$N9))) | H9: =IF($N9="","",IF(INDEX('Deadline Log'!$E$6:$E$305,$N9)="","",INDEX('Deadline Log'!$E$6:$E$305,$N9))) | I9: =IF($N9="","",IF(INDEX('Deadline Log'!$F$6:$F$305,$N9)="","",INDEX('Deadline Log'!$F$6:$F$305,$N9))) | J9: =IF($N9="","",IF(INDEX('Deadline Log'!$L$6:$L$305,$N9)="","",INDEX('Deadline Log'!$L$6:$L$305,$N9))) | K9: =IF($N9="","",IF(INDEX('Deadline Log'!$M$6:$M$305,$N9)="","",INDEX('Deadline Log'!$M$6:$M$305,$N9))) | L9: =IF($N9="","",IF(INDEX('Deadline Log'!$O$6:$O$305,$N9)="","",INDEX('Deadline Log'!$O$6:$O$305,$N9))) | M9: =IF(A9="","",SMALL('Deadline Log'!$R$6:$R$305,A9)) | N9: =IF(M9="","",MATCH(M9,'Deadline Log'!$R$6:$R$305,0))
A10: =IF(ROW()-ROW($A$5)>$C$3,"",ROW()-ROW($A$5)) | B10: =IF($N10="","",IF(INDEX('Deadline Log'!$G$6:$G$305,$N10)="","",INDEX('Deadline Log'!$G$6:$G$305,$N10))) | C10: =IF($N10="","",INDEX('Deadline Log'!$K$6:$K$305,$N10)) | D10: =IF($N10="","",INDEX('Deadline Log'!$J$6:$J$305,$N10)) | E10: =IF($N10="","",IF(INDEX('Deadline Log'!$A$6:$A$305,$N10)="","",INDEX('Deadline Log'!$A$6:$A$305,$N10))) | F10: =IF($N10="","",IF(INDEX('Deadline Log'!$B$6:$B$305,$N10)="","",INDEX('Deadline Log'!$B$6:$B$305,$N10))) | G10: =IF($N10="","",IF(INDEX('Deadline Log'!$D$6:$D$305,$N10)="","",INDEX('Deadline Log'!$D$6:$D$305,$N10))) | H10: =IF($N10="","",IF(INDEX('Deadline Log'!$E$6:$E$305,$N10)="","",INDEX('Deadline Log'!$E$6:$E$305,$N10))) | I10: =IF($N10="","",IF(INDEX('Deadline Log'!$F$6:$F$305,$N10)="","",INDEX('Deadline Log'!$F$6:$F$305,$N10))) | J10: =IF($N10="","",IF(INDEX('Deadline Log'!$L$6:$L$305,$N10)="","",INDEX('Deadline Log'!$L$6:$L$305,$N10))) | K10: =IF($N10="","",IF(INDEX('Deadline Log'!$M$6:$M$305,$N10)="","",INDEX('Deadline Log'!$M$6:$M$305,$N10))) | L10: =IF($N10="","",IF(INDEX('Deadline Log'!$O$6:$O$305,$N10)="","",INDEX('Deadline Log'!$O$6:$O$305,$N10))) | M10: =IF(A10="","",SMALL('Deadline Log'!$R$6:$R$305,A10)) | N10: =IF(M10="","",MATCH(M10,'Deadline Log'!$R$6:$R$305,0))
A11: =IF(ROW()-ROW($A$5)>$C$3,"",ROW()-ROW($A$5)) | B11: =IF($N11="","",IF(INDEX('Deadline Log'!$G$6:$G$305,$N11)="","",INDEX('Deadline Log'!$G$6:$G$305,$N11))) | C11: =IF($N11="","",INDEX('Deadline Log'!$K$6:$K$305,$N11)) | D11: =IF($N11="","",INDEX('Deadline Log'!$J$6:$J$305,$N11)) | E11: =IF($N11="","",IF(INDEX('Deadline Log'!$A$6:$A$305,$N11)="","",INDEX('Deadline Log'!$A$6:$A$305,$N11))) | F11: =IF($N11="","",IF(INDEX('Deadline Log'!$B$6:$B$305,$N11)="","",INDEX('Deadline Log'!$B$6:$B$305,$N11))) | G11: =IF($N11="","",IF(INDEX('Deadline Log'!$D$6:$D$305,$N11)="","",INDEX('Deadline Log'!$D$6:$D$305,$N11))) | H11: =IF($N11="","",IF(INDEX('Deadline Log'!$E$6:$E$305,$N11)="","",INDEX('Deadline Log'!$E$6:$E$305,$N11))) | I11: =IF($N11="","",IF(INDEX('Deadline Log'!$F$6:$F$305,$N11)="","",INDEX('Deadline Log'!$F$6:$F$305,$N11))) | J11: =IF($N11="","",IF(INDEX('Deadline Log'!$L$6:$L$305,$N11)="","",INDEX('Deadline Log'!$L$6:$L$305,$N11))) | K11: =IF($N11="","",IF(INDEX('Deadline Log'!$M$6:$M$305,$N11)="","",INDEX('Deadline Log'!$M$6:$M$305,$N11))) | L11: =IF($N11="","",IF(INDEX('Deadline Log'!$O$6:$O$305,$N11)="","",INDEX('Deadline Log'!$O$6:$O$305,$N11))) | M11: =IF(A11="","",SMALL('Deadline Log'!$R$6:$R$305,A11)) | N11: =IF(M11="","",MATCH(M11,'Deadline Log'!$R$6:$R$305,0))
A12: =IF(ROW()-ROW($A$5)>$C$3,"",ROW()-ROW($A$5)) | B12: =IF($N12="","",IF(INDEX('Deadline Log'!$G$6:$G$305,$N12)="","",INDEX('Deadline Log'!$G$6:$G$305,$N12))) | C12: =IF($N12="","",INDEX('Deadline Log'!$K$6:$K$305,$N12)) | D12: =IF($N12="","",INDEX('Deadline Log'!$J$6:$J$305,$N12)) | E12: =IF($N12="","",IF(INDEX('Deadline Log'!$A$6:$A$305,$N12)="","",INDEX('Deadline Log'!$A$6:$A$305,$N12))) | F12: =IF($N12="","",IF(INDEX('Deadline Log'!$B$6:$B$305,$N12)="","",INDEX('Deadline Log'!$B$6:$B$305,$N12))) | G12: =IF($N12="","",IF(INDEX('Deadline Log'!$D$6:$D$305,$N12)="","",INDEX('Deadline Log'!$D$6:$D$305,$N12))) | H12: =IF($N12="","",IF(INDEX('Deadline Log'!$E$6:$E$305,$N12)="","",INDEX('Deadline Log'!$E$6:$E$305,$N12))) | I12: =IF($N12="","",IF(INDEX('Deadline Log'!$F$6:$F$305,$N12)="","",INDEX('Deadline Log'!$F$6:$F$305,$N12))) | J12: =IF($N12="","",IF(INDEX('Deadline Log'!$L$6:$L$305,$N12)="","",INDEX('Deadline Log'!$L$6:$L$305,$N12))) | K12: =IF($N12="","",IF(INDEX('Deadline Log'!$M$6:$M$305,$N12)="","",INDEX('Deadline Log'!$M$6:$M$305,$N12))) | L12: =IF($N12="","",IF(INDEX('Deadline Log'!$O$6:$O$305,$N12)="","",INDEX('Deadline Log'!$O$6:$O$305,$N12))) | M12: =IF(A12="","",SMALL('Deadline Log'!$R$6:$R$305,A12)) | N12: =IF(M12="","",MATCH(M12,'Deadline Log'!$R$6:$R$305,0))
A13: =IF(ROW()-ROW($A$5)>$C$3,"",ROW()-ROW($A$5)) | B13: =IF($N13="","",IF(INDEX('Deadline Log'!$G$6:$G$305,$N13)="","",INDEX('Deadline Log'!$G$6:$G$305,$N13))) | C13: =IF($N13="","",INDEX('Deadline Log'!$K$6:$K$305,$N13)) | D13: =IF($N13="","",INDEX('Deadline Log'!$J$6:$J$305,$N13)) | E13: =IF($N13="","",IF(INDEX('Deadline Log'!$A$6:$A$305,$N13)="","",INDEX('Deadline Log'!$A$6:$A$305,$N13))) | F13: =IF($N13="","",IF(INDEX('Deadline Log'!$B$6:$B$305,$N13)="","",INDEX('Deadline Log'!$B$6:$B$305,$N13))) | G13: =IF($N13="","",IF(INDEX('Deadline Log'!$D$6:$D$305,$N13)="","",INDEX('Deadline Log'!$D$6:$D$305,$N13))) | H13: =IF($N13="","",IF(INDEX('Deadline Log'!$E$6:$E$305,$N13)="","",INDEX('Deadline Log'!$E$6:$E$305,$N13))) | I13: =IF($N13="","",IF(INDEX('Deadline Log'!$F$6:$F$305,$N13)="","",INDEX('Deadline Log'!$F$6:$F$305,$N13))) | J13: =IF($N13="","",IF(INDEX('Deadline Log'!$L$6:$L$305,$N13)="","",INDEX('Deadline Log'!$L$6:$L$305,$N13))) | K13: =IF($N13="","",IF(INDEX('Deadline Log'!$M$6:$M$305,$N13)="","",INDEX('Deadline Log'!$M$6:$M$305,$N13))) | L13: =IF($N13="","",IF(INDEX('Deadline Log'!$O$6:$O$305,$N13)="","",INDEX('Deadline Log'!$O$6:$O$305,$N13))) | M13: =IF(A13="","",SMALL('Deadline Log'!$R$6:$R$305,A13)) | N13: =IF(M13="","",MATCH(M13,'Deadline Log'!$R$6:$R$305,0))
A14: =IF(ROW()-ROW($A$5)>$C$3,"",ROW()-ROW($A$5)) | B14: =IF($N14="","",IF(INDEX('Deadline Log'!$G$6:$G$305,$N14)="","",INDEX('Deadline Log'!$G$6:$G$305,$N14))) | C14: =IF($N14="","",INDEX('Deadline Log'!$K$6:$K$305,$N14)) | D14: =IF($N14="","",INDEX('Deadline Log'!$J$6:$J$305,$N14)) | E14: =IF($N14="","",IF(INDEX('Deadline Log'!$A$6:$A$305,$N14)="","",INDEX('Deadline Log'!$A$6:$A$305,$N14))) | F14: =IF($N14="","",IF(INDEX('Deadline Log'!$B$6:$B$305,$N14)="","",INDEX('Deadline Log'!$B$6:$B$305,$N14))) | G14: =IF($N14="","",IF(INDEX('Deadline Log'!$D$6:$D$305,$N14)="","",INDEX('Deadline Log'!$D$6:$D$305,$N14))) | H14: =IF($N14="","",IF(INDEX('Deadline Log'!$E$6:$E$305,$N14)="","",INDEX('Deadline Log'!$E$6:$E$305,$N14))) | I14: =IF($N14="","",IF(INDEX('Deadline Log'!$F$6:$F$305,$N14)="","",INDEX('Deadline Log'!$F$6:$F$305,$N14))) | J14: =IF($N14="","",IF(INDEX('Deadline Log'!$L$6:$L$305,$N14)="","",INDEX('Deadline Log'!$L$6:$L$305,$N14))) | K14: =IF($N14="","",IF(INDEX('Deadline Log'!$M$6:$M$305,$N14)="","",INDEX('Deadline Log'!$M$6:$M$305,$N14))) | L14: =IF($N14="","",IF(INDEX('Deadline Log'!$O$6:$O$305,$N14)="","",INDEX('Deadline Log'!$O$6:$O$305,$N14))) | M14: =IF(A14="","",SMALL('Deadline Log'!$R$6:$R$305,A14)) | N14: =IF(M14="","",MATCH(M14,'Deadline Log'!$R$6:$R$305,0))
A15: =IF(ROW()-ROW($A$5)>$C$3,"",ROW()-ROW($A$5)) | B15: =IF($N15="","",IF(INDEX('Deadline Log'!$G$6:$G$305,$N15)="","",INDEX('Deadline Log'!$G$6:$G$305,$N15))) | C15: =IF($N15="","",INDEX('Deadline Log'!$K$6:$K$305,$N15)) | D15: =IF($N15="","",INDEX('Deadline Log'!$J$6:$J$305,$N15)) | E15: =IF($N15="","",IF(INDEX('Deadline Log'!$A$6:$A$305,$N15)="","",INDEX('Deadline Log'!$A$6:$A$305,$N15))) | F15: =IF($N15="","",IF(INDEX('Deadline Log'!$B$6:$B$305,$N15)="","",INDEX('Deadline Log'!$B$6:$B$305,$N15))) | G15: =IF($N15="","",IF(INDEX('Deadline Log'!$D$6:$D$305,$N15)="","",INDEX('Deadline Log'!$D$6:$D$305,$N15))) | H15: =IF($N15="","",IF(INDEX('Deadline Log'!$E$6:$E$305,$N15)="","",INDEX('Deadline Log'!$E$6:$E$305,$N15))) | I15: =IF($N15="","",IF(INDEX('Deadline Log'!$F$6:$F$305,$N15)="","",INDEX('Deadline Log'!$F$6:$F$305,$N15))) | J15: =IF($N15="","",IF(INDEX('Deadline Log'!$L$6:$L$305,$N15)="","",INDEX('Deadline Log'!$L$6:$L$305,$N15))) | K15: =IF($N15="","",IF(INDEX('Deadline Log'!$M$6:$M$305,$N15)="","",INDEX('Deadline Log'!$M$6:$M$305,$N15))) | L15: =IF($N15="","",IF(INDEX('Deadline Log'!$O$6:$O$305,$N15)="","",INDEX('Deadline Log'!$O$6:$O$305,$N15))) | M15: =IF(A15="","",SMALL('Deadline Log'!$R$6:$R$305,A15)) | N15: =IF(M15="","",MATCH(M15,'Deadline Log'!$R$6:$R$305,0))
A16: =IF(ROW()-ROW($A$5)>$C$3,"",ROW()-ROW($A$5)) | B16: =IF($N16="","",IF(INDEX('Deadline Log'!$G$6:$G$305,$N16)="","",INDEX('Deadline Log'!$G$6:$G$305,$N16))) | C16: =IF($N16="","",INDEX('Deadline Log'!$K$6:$K$305,$N16)) | D16: =IF($N16="","",INDEX('Deadline Log'!$J$6:$J$305,$N16)) | E16: =IF($N16="","",IF(INDEX('Deadline Log'!$A$6:$A$305,$N16)="","",INDEX('Deadline Log'!$A$6:$A$305,$N16))) | F16: =IF($N16="","",IF(INDEX('Deadline Log'!$B$6:$B$305,$N16)="","",INDEX('Deadline Log'!$B$6:$B$305,$N16))) | G16: =IF($N16="","",IF(INDEX('Deadline Log'!$D$6:$D$305,$N16)="","",INDEX('Deadline Log'!$D$6:$D$305,$N16))) | H16: =IF($N16="","",IF(INDEX('Deadline Log'!$E$6:$E$305,$N16)="","",INDEX('Deadline Log'!$E$6:$E$305,$N16))) | I16: =IF($N16="","",IF(INDEX('Deadline Log'!$F$6:$F$305,$N16)="","",INDEX('Deadline Log'!$F$6:$F$305,$N16))) | J16: =IF($N16="","",IF(INDEX('Deadline Log'!$L$6:$L$305,$N16)="","",INDEX('Deadline Log'!$L$6:$L$305,$N16))) | K16: =IF($N16="","",IF(INDEX('Deadline Log'!$M$6:$M$305,$N16)="","",INDEX('Deadline Log'!$M$6:$M$305,$N16))) | L16: =IF($N16="","",IF(INDEX('Deadline Log'!$O$6:$O$305,$N16)="","",INDEX('Deadline Log'!$O$6:$O$305,$N16))) | M16: =IF(A16="","",SMALL('Deadline Log'!$R$6:$R$305,A16)) | N16: =IF(M16="","",MATCH(M16,'Deadline Log'!$R$6:$R$305,0))
A17: =IF(ROW()-ROW($A$5)>$C$3,"",ROW()-ROW($A$5)) | B17: =IF($N17="","",IF(INDEX('Deadline Log'!$G$6:$G$305,$N17)="","",INDEX('Deadline Log'!$G$6:$G$305,$N17))) | C17: =IF($N17="","",INDEX('Deadline Log'!$K$6:$K$305,$N17)) | D17: =IF($N17="","",INDEX('Deadline Log'!$J$6:$J$305,$N17)) | E17: =IF($N17="","",IF(INDEX('Deadline Log'!$A$6:$A$305,$N17)="","",INDEX('Deadline Log'!$A$6:$A$305,$N17))) | F17: =IF($N17="","",IF(INDEX('Deadline Log'!$B$6:$B$305,$N17)="","",INDEX('Deadline Log'!$B$6:$B$305,$N17))) | G17: =IF($N17="","",IF(INDEX('Deadline Log'!$D$6:$D$305,$N17)="","",INDEX('Deadline Log'!$D$6:$D$305,$N17))) | H17: =IF($N17="","",IF(INDEX('Deadline Log'!$E$6:$E$305,$N17)="","",INDEX('Deadline Log'!$E$6:$E$305,$N17))) | I17: =IF($N17="","",IF(INDEX('Deadline Log'!$F$6:$F$305,$N17)="","",INDEX('Deadline Log'!$F$6:$F$305,$N17))) | J17: =IF($N17="","",IF(INDEX('Deadline Log'!$L$6:$L$305,$N17)="","",INDEX('Deadline Log'!$L$6:$L$305,$N17))) | K17: =IF($N17="","",IF(INDEX('Deadline Log'!$M$6:$M$305,$N17)="","",INDEX('Deadline Log'!$M$6:$M$305,$N17))) | L17: =IF($N17="","",IF(INDEX('Deadline Log'!$O$6:$O$305,$N17)="","",INDEX('Deadline Log'!$O$6:$O$305,$N17))) | M17: =IF(A17="","",SMALL('Deadline Log'!$R$6:$R$305,A17)) | N17: =IF(M17="","",MATCH(M17,'Deadline Log'!$R$6:$R$305,0))
... A305: =IF(ROW()-ROW($A$5)>$C$3,"",ROW()-ROW($A$5)) | B305: =IF($N305="","",IF(INDEX('Deadline Log'!$G$6:$G$305,$N305)="","",INDEX('Deadline Log'!$G$6:$G$305,$N305))) | C305: =IF($N305="","",INDEX('Deadline Log'!$K$6:$K$305,$N305)) | D305: =IF($N305="","",INDEX('Deadline Log'!$J$6:$J$305,$N305)) | E305: =IF($N305="","",IF(INDEX('Deadline Log'!$A$6:$A$305,$N305)="","",INDEX('Deadline Log'!$A$6:$A$305,$N305))) | F305: =IF($N305="","",IF(INDEX('Deadline Log'!$B$6:$B$305,$N305)="","",INDEX('Deadline Log'!$B$6:$B$305,$N305))) | G305: =IF($N305="","",IF(INDEX('Deadline Log'!$D$6:$D$305,$N305)="","",INDEX('Deadline Log'!$D$6:$D$305,$N305))) | H305: =IF($N305="","",IF(INDEX('Deadline Log'!$E$6:$E$305,$N305)="","",INDEX('Deadline Log'!$E$6:$E$305,$N305))) | I305: =IF($N305="","",IF(INDEX('Deadline Log'!$F$6:$F$305,$N305)="","",INDEX('Deadline Log'!$F$6:$F$305,$N305))) | J305: =IF($N305="","",IF(INDEX('Deadline Log'!$L$6:$L$305,$N305)="","",INDEX('Deadline Log'!$L$6:$L$305,$N305))) | K305: =IF($N305="","",IF(INDEX('Deadline Log'!$M$6:$M$305,$N305)="","",INDEX('Deadline Log'!$M$6:$M$305,$N305))) | L305: =IF($N305="","",IF(INDEX('Deadline Log'!$O$6:$O$305,$N305)="","",INDEX('Deadline Log'!$O$6:$O$305,$N305))) | M305: =IF(A305="","",SMALL('Deadline Log'!$R$6:$R$305,A305)) | N305: =IF(M305="","",MATCH(M305,'Deadline Log'!$R$6:$R$305,0))

Sheet Settings
A1: Settings
A2: The dropdown lists for the other tabs. Add your own deliverable types and submission systems in the white cells of columns A and C.
A3: Keep the gray Status, Reporting frequency and Recipient type entries exactly as they are, because the formulas on the other tabs read them.
A4: Deliverable type | B4: Status (do not rename) | C4: Submission system | D4: Reporting frequency (do not rename) | E4: Recipient type (do not rename)
A5: Letter of intent | B5: Not started | C5: Grants.gov | D5: Quarterly | E5: Recipient
A6: Pre-application | B6: Drafting | C6: eRA Commons | D6: Semiannual | E6: Subrecipient
A7: Application | B7: In review | C7: Research.gov | D7: Annual
A8: Progress report | B8: Submitted | C8: eBRAP
A9: Financial report | B9: Confirmed | C9: Sage
A10: Final report | B10: Missed | C10: SAM.gov
A11: Subaward report | C11: Email
A12: Registration renewal | C12: Portal
A13: Extension request
